Package: BiocSingular Version: 1.22.0 Command: /home/biocbuild/R/R/bin/R CMD INSTALL BiocSingular StartedAt: 2025-02-10 21:00:00 -0000 (Mon, 10 Feb 2025) EndedAt: 2025-02-10 21:00:39 -0000 (Mon, 10 Feb 2025) EllapsedTime: 39.8 seconds RetCode: 0 Status: OK