Package: BiocSklearn Version: 1.28.0 Command: /Library/Frameworks/R.framework/Resources/bin/R CMD check --install=check:BiocSklearn.install-out.txt --library=/Library/Frameworks/R.framework/Resources/library --no-vignettes --timings BiocSklearn_1.28.0.tar.gz StartedAt: 2025-02-04 12:42:28 -0500 (Tue, 04 Feb 2025) EndedAt: 2025-02-04 12:45:16 -0500 (Tue, 04 Feb 2025) EllapsedTime: 168.0 seconds RetCode: 0 Status: OK CheckDir: BiocSklearn.Rcheck Warnings: 0