Package: BiocSklearn Version: 1.28.0 Command: chmod a+r BiocSklearn -R && F:\biocbuild\bbs-3.20-bioc\R\bin\R.exe CMD build --keep-empty-dirs --no-resave-data BiocSklearn StartedAt: 2025-02-03 17:46:17 -0500 (Mon, 03 Feb 2025) EndedAt: 2025-02-03 17:48:55 -0500 (Mon, 03 Feb 2025) EllapsedTime: 158.0 seconds RetCode: 0 Status: OK PackageFile: BiocSklearn_1.28.0.tar.gz PackageFileSize: 32.52 MiB