Package: BiocSklearn Version: 1.28.0 Command: /home/biocbuild/R/R/bin/R CMD build --keep-empty-dirs --no-resave-data BiocSklearn StartedAt: 2025-02-03 22:04:07 -0000 (Mon, 03 Feb 2025) EndedAt: 2025-02-03 22:04:50 -0000 (Mon, 03 Feb 2025) EllapsedTime: 43.0 seconds RetCode: 0 Status: OK PackageFile: BiocSklearn_1.28.0.tar.gz PackageFileSize: 32.54 MiB