Package: Biostrings Version: 2.74.1 Command: /Library/Frameworks/R.framework/Resources/bin/R CMD build --keep-empty-dirs --no-resave-data Biostrings StartedAt: 2025-02-03 19:39:04 -0500 (Mon, 03 Feb 2025) EndedAt: 2025-02-03 19:40:16 -0500 (Mon, 03 Feb 2025) EllapsedTime: 71.9 seconds RetCode: 0 Status: OK PackageFile: Biostrings_2.74.1.tar.gz PackageFileSize: 12.23 MiB