Package: Biostrings Version: 2.74.1 Command: /Library/Frameworks/R.framework/Resources/bin/R CMD check --install=check:Biostrings.install-out.txt --library=/Library/Frameworks/R.framework/Resources/library --no-vignettes --timings Biostrings_2.74.1.tar.gz StartedAt: 2025-02-04 12:55:54 -0500 (Tue, 04 Feb 2025) EndedAt: 2025-02-04 13:08:24 -0500 (Tue, 04 Feb 2025) EllapsedTime: 750.0 seconds RetCode: 0 Status: WARNINGS CheckDir: Biostrings.Rcheck Warnings: 1