Package: Biostrings Version: 2.74.1 Command: /Library/Frameworks/R.framework/Resources/bin/R CMD INSTALL Biostrings StartedAt: 2025-02-03 15:25:11 -0500 (Mon, 03 Feb 2025) EndedAt: 2025-02-03 15:25:44 -0500 (Mon, 03 Feb 2025) EllapsedTime: 32.9 seconds RetCode: 0 Status: OK