Package: Biostrings Version: 2.74.1 Command: rm -rf Biostrings.buildbin-libdir && mkdir Biostrings.buildbin-libdir && /Users/biocbuild/BBS/utils/build-universal.sh Biostrings_2.74.1.tar.gz /Library/Frameworks/R.framework/Resources/bin/R Biostrings.buildbin-libdir StartedAt: 2025-02-04 12:33:04 -0500 (Tue, 04 Feb 2025) EndedAt: 2025-02-04 12:34:23 -0500 (Tue, 04 Feb 2025) EllapsedTime: 79.5 seconds RetCode: 0 Status: OK PackageFile: Biostrings_2.74.1.tgz PackageFileSize: 13.48 MiB