Package: Biostrings Version: 2.74.1 Command: /Library/Frameworks/R.framework/Resources/bin/R CMD INSTALL Biostrings StartedAt: 2025-02-10 15:11:22 -0500 (Mon, 10 Feb 2025) EndedAt: 2025-02-10 15:12:33 -0500 (Mon, 10 Feb 2025) EllapsedTime: 70.2 seconds RetCode: 0 Status: OK