Package: Biostrings Version: 2.74.1 Command: /home/biocbuild/bbs-3.20-bioc/R/bin/R CMD build --keep-empty-dirs --no-resave-data --md5 Biostrings StartedAt: 2025-02-10 16:28:29 -0500 (Mon, 10 Feb 2025) EndedAt: 2025-02-10 16:29:18 -0500 (Mon, 10 Feb 2025) EllapsedTime: 49.0 seconds RetCode: 0 Status: OK PackageFile: Biostrings_2.74.1.tar.gz PackageFileSize: 12.23 MiB