Package: Biostrings Version: 2.74.1 Command: /home/biocbuild/bbs-3.20-bioc/R/bin/R CMD check --install=check:Biostrings.install-out.txt --library=/home/biocbuild/bbs-3.20-bioc/R/site-library --timings Biostrings_2.74.1.tar.gz StartedAt: 2025-02-03 20:29:39 -0500 (Mon, 03 Feb 2025) EndedAt: 2025-02-03 20:38:39 -0500 (Mon, 03 Feb 2025) EllapsedTime: 540.1 seconds RetCode: 0 Status: WARNINGS CheckDir: Biostrings.Rcheck Warnings: 1