Package: Biostrings Version: 2.74.1 Command: rm -rf Biostrings.buildbin-libdir && mkdir Biostrings.buildbin-libdir && F:\biocbuild\bbs-3.20-bioc\R\bin\R.exe CMD INSTALL --build --library=Biostrings.buildbin-libdir Biostrings_2.74.1.tar.gz StartedAt: 2025-02-04 08:05:00 -0500 (Tue, 04 Feb 2025) EndedAt: 2025-02-04 08:09:38 -0500 (Tue, 04 Feb 2025) EllapsedTime: 278.8 seconds RetCode: 0 Status: OK PackageFile: Biostrings_2.74.1.zip PackageFileSize: 13.1 MiB