Package: Biostrings Version: 2.74.1 Command: chmod a+r Biostrings -R && F:\biocbuild\bbs-3.20-bioc\R\bin\R.exe CMD build --keep-empty-dirs --no-resave-data Biostrings StartedAt: 2025-02-03 17:49:47 -0500 (Mon, 03 Feb 2025) EndedAt: 2025-02-03 17:52:27 -0500 (Mon, 03 Feb 2025) EllapsedTime: 160.2 seconds RetCode: 0 Status: OK PackageFile: Biostrings_2.74.1.tar.gz PackageFileSize: 11.85 MiB