Package: Biostrings Version: 2.74.1 Command: F:\biocbuild\bbs-3.20-bioc\R\bin\R.exe CMD check --no-multiarch --install=check:Biostrings.install-out.txt --library=F:\biocbuild\bbs-3.20-bioc\R\library --no-vignettes --timings Biostrings_2.74.1.tar.gz StartedAt: 2025-02-03 23:43:25 -0500 (Mon, 03 Feb 2025) EndedAt: 2025-02-03 23:54:09 -0500 (Mon, 03 Feb 2025) EllapsedTime: 644.0 seconds RetCode: 0 Status: WARNINGS CheckDir: Biostrings.Rcheck Warnings: 2