Package: Biostrings Version: 2.74.1 Command: F:\biocbuild\bbs-3.20-bioc\R\bin\R.exe CMD INSTALL Biostrings StartedAt: 2025-02-10 15:40:42 -0500 (Mon, 10 Feb 2025) EndedAt: 2025-02-10 15:44:44 -0500 (Mon, 10 Feb 2025) EllapsedTime: 242.4 seconds RetCode: 0 Status: OK