Package: Biostrings Version: 2.74.1 Command: /home/biocbuild/R/R/bin/R CMD build --keep-empty-dirs --no-resave-data Biostrings StartedAt: 2025-02-03 22:09:14 -0000 (Mon, 03 Feb 2025) EndedAt: 2025-02-03 22:10:20 -0000 (Mon, 03 Feb 2025) EllapsedTime: 65.0 seconds RetCode: 0 Status: OK PackageFile: Biostrings_2.74.1.tar.gz PackageFileSize: 12.08 MiB