Package: BrowserViz Version: 2.28.0 Command: rm -rf BrowserViz.buildbin-libdir && mkdir BrowserViz.buildbin-libdir && /Users/biocbuild/BBS/utils/build-universal.sh BrowserViz_2.28.0.tar.gz /Library/Frameworks/R.framework/Resources/bin/R BrowserViz.buildbin-libdir StartedAt: 2025-02-05 15:03:17 -0500 (Wed, 05 Feb 2025) EndedAt: 2025-02-05 15:03:23 -0500 (Wed, 05 Feb 2025) EllapsedTime: 5.6 seconds RetCode: 0 Status: OK PackageFile: BrowserViz_2.28.0.tgz PackageFileSize: 414.7 KiB