Package: BrowserViz Version: 2.28.0 Command: /Library/Frameworks/R.framework/Resources/bin/R CMD build --keep-empty-dirs --no-resave-data BrowserViz StartedAt: 2025-02-03 19:50:10 -0500 (Mon, 03 Feb 2025) EndedAt: 2025-02-03 19:50:18 -0500 (Mon, 03 Feb 2025) EllapsedTime: 7.8 seconds RetCode: 0 Status: OK PackageFile: BrowserViz_2.28.0.tar.gz PackageFileSize: 240.9 KiB