Package: BrowserViz Version: 2.28.0 Command: /Library/Frameworks/R.framework/Resources/bin/R CMD INSTALL BrowserViz StartedAt: 2025-02-03 15:18:37 -0500 (Mon, 03 Feb 2025) EndedAt: 2025-02-03 15:19:07 -0500 (Mon, 03 Feb 2025) EllapsedTime: 30.0 seconds RetCode: 0 Status: OK