Package: BrowserViz Version: 2.28.0 Command: /home/biocbuild/bbs-3.20-bioc/R/bin/R CMD INSTALL BrowserViz StartedAt: 2025-02-10 15:16:09 -0500 (Mon, 10 Feb 2025) EndedAt: 2025-02-10 15:16:29 -0500 (Mon, 10 Feb 2025) EllapsedTime: 19.4 seconds RetCode: 0 Status: OK