Package: BrowserViz Version: 2.28.0 Command: rm -rf BrowserViz.buildbin-libdir && mkdir BrowserViz.buildbin-libdir && F:\biocbuild\bbs-3.20-bioc\R\bin\R.exe CMD INSTALL --build --library=BrowserViz.buildbin-libdir BrowserViz_2.28.0.tar.gz StartedAt: 2025-02-04 08:06:27 -0500 (Tue, 04 Feb 2025) EndedAt: 2025-02-04 08:06:48 -0500 (Tue, 04 Feb 2025) EllapsedTime: 20.9 seconds RetCode: 0 Status: OK PackageFile: BrowserViz_2.28.0.zip PackageFileSize: 422.8 KiB