Package: BrowserViz Version: 2.28.0 Command: chmod a+r BrowserViz -R && F:\biocbuild\bbs-3.20-bioc\R\bin\R.exe CMD build --keep-empty-dirs --no-resave-data BrowserViz StartedAt: 2025-02-03 17:53:23 -0500 (Mon, 03 Feb 2025) EndedAt: 2025-02-03 17:54:03 -0500 (Mon, 03 Feb 2025) EllapsedTime: 39.7 seconds RetCode: 0 Status: OK PackageFile: BrowserViz_2.28.0.tar.gz PackageFileSize: 241.1 KiB