Package: BrowserViz Version: 2.28.0 Command: /home/biocbuild/R/R/bin/R CMD build --keep-empty-dirs --no-resave-data BrowserViz StartedAt: 2025-02-03 22:18:08 -0000 (Mon, 03 Feb 2025) EndedAt: 2025-02-03 22:18:15 -0000 (Mon, 03 Feb 2025) EllapsedTime: 7.0 seconds RetCode: 0 Status: OK PackageFile: BrowserViz_2.28.0.tar.gz PackageFileSize: 267.6 KiB