Package: BrowserViz Version: 2.28.0 Command: /home/biocbuild/R/R/bin/R CMD INSTALL BrowserViz StartedAt: 2025-02-03 20:27:16 -0000 (Mon, 03 Feb 2025) EndedAt: 2025-02-03 20:27:53 -0000 (Mon, 03 Feb 2025) EllapsedTime: 37.2 seconds RetCode: 0 Status: OK