Package: BufferedMatrix Version: 1.70.0 Command: rm -rf BufferedMatrix.buildbin-libdir && mkdir BufferedMatrix.buildbin-libdir && /Users/biocbuild/BBS/utils/build-universal.sh BufferedMatrix_1.70.0.tar.gz /Library/Frameworks/R.framework/Resources/bin/R BufferedMatrix.buildbin-libdir StartedAt: 2025-02-05 15:03:54 -0500 (Wed, 05 Feb 2025) EndedAt: 2025-02-05 15:04:04 -0500 (Wed, 05 Feb 2025) EllapsedTime: 9.1 seconds RetCode: 0 Status: OK PackageFile: BufferedMatrix_1.70.0.tgz PackageFileSize: 708.9 KiB