Package: BufferedMatrix Version: 1.70.0 Command: /Library/Frameworks/R.framework/Resources/bin/R CMD build --keep-empty-dirs --no-resave-data BufferedMatrix StartedAt: 2025-02-03 19:51:45 -0500 (Mon, 03 Feb 2025) EndedAt: 2025-02-03 19:52:01 -0500 (Mon, 03 Feb 2025) EllapsedTime: 16.0 seconds RetCode: 0 Status: OK PackageFile: BufferedMatrix_1.70.0.tar.gz PackageFileSize: 630.4 KiB