Package: BufferedMatrix Version: 1.70.0 Command: /Library/Frameworks/R.framework/Resources/bin/R CMD build --keep-empty-dirs --no-resave-data BufferedMatrix StartedAt: 2025-02-10 17:27:46 -0500 (Mon, 10 Feb 2025) EndedAt: 2025-02-10 17:28:14 -0500 (Mon, 10 Feb 2025) EllapsedTime: 27.9 seconds RetCode: 0 Status: OK PackageFile: BufferedMatrix_1.70.0.tar.gz PackageFileSize: 629.8 KiB