Package: BufferedMatrix Version: 1.70.0 Command: /Library/Frameworks/R.framework/Resources/bin/R CMD INSTALL BufferedMatrix StartedAt: 2025-02-10 15:03:17 -0500 (Mon, 10 Feb 2025) EndedAt: 2025-02-10 15:03:29 -0500 (Mon, 10 Feb 2025) EllapsedTime: 11.8 seconds RetCode: 0 Status: OK