Package: BufferedMatrix Version: 1.70.0 Command: rm -rf BufferedMatrix.buildbin-libdir && mkdir BufferedMatrix.buildbin-libdir && F:\biocbuild\bbs-3.20-bioc\R\bin\R.exe CMD INSTALL --build --library=BufferedMatrix.buildbin-libdir BufferedMatrix_1.70.0.tar.gz StartedAt: 2025-02-11 08:03:42 -0500 (Tue, 11 Feb 2025) EndedAt: 2025-02-11 08:06:18 -0500 (Tue, 11 Feb 2025) EllapsedTime: 155.5 seconds RetCode: 0 Status: OK PackageFile: BufferedMatrix_1.70.0.zip PackageFileSize: 569.8 KiB