Package: BufferedMatrix Version: 1.70.0 Command: /home/biocbuild/R/R/bin/R CMD check --install=check:BufferedMatrix.install-out.txt --library=/home/biocbuild/R/R/site-library --no-vignettes --timings BufferedMatrix_1.70.0.tar.gz StartedAt: 2025-02-11 04:25:20 -0000 (Tue, 11 Feb 2025) EndedAt: 2025-02-11 04:25:51 -0000 (Tue, 11 Feb 2025) EllapsedTime: 31.0 seconds RetCode: 0 Status: OK CheckDir: BufferedMatrix.Rcheck Warnings: 0