Package: BumpyMatrix Version: 1.14.0 Command: /Library/Frameworks/R.framework/Resources/bin/R CMD build --keep-empty-dirs --no-resave-data BumpyMatrix StartedAt: 2025-02-03 19:52:44 -0500 (Mon, 03 Feb 2025) EndedAt: 2025-02-03 19:53:12 -0500 (Mon, 03 Feb 2025) EllapsedTime: 27.5 seconds RetCode: 0 Status: OK PackageFile: BumpyMatrix_1.14.0.tar.gz PackageFileSize: 317.6 KiB