Package: BumpyMatrix Version: 1.14.0 Command: /home/biocbuild/bbs-3.20-bioc/R/bin/R CMD build --keep-empty-dirs --no-resave-data --md5 BumpyMatrix StartedAt: 2025-02-03 16:40:19 -0500 (Mon, 03 Feb 2025) EndedAt: 2025-02-03 16:40:41 -0500 (Mon, 03 Feb 2025) EllapsedTime: 22.0 seconds RetCode: 0 Status: OK PackageFile: BumpyMatrix_1.14.0.tar.gz PackageFileSize: 318.7 KiB