Package: BumpyMatrix Version: 1.14.0 Command: /home/biocbuild/bbs-3.20-bioc/R/bin/R CMD INSTALL BumpyMatrix StartedAt: 2025-02-03 15:17:09 -0500 (Mon, 03 Feb 2025) EndedAt: 2025-02-03 15:17:29 -0500 (Mon, 03 Feb 2025) EllapsedTime: 19.7 seconds RetCode: 0 Status: OK