Package: BumpyMatrix Version: 1.14.0 Command: rm -rf BumpyMatrix.buildbin-libdir && mkdir BumpyMatrix.buildbin-libdir && F:\biocbuild\bbs-3.20-bioc\R\bin\R.exe CMD INSTALL --build --library=BumpyMatrix.buildbin-libdir BumpyMatrix_1.14.0.tar.gz StartedAt: 2025-01-31 08:17:24 -0500 (Fri, 31 Jan 2025) EndedAt: 2025-01-31 08:18:39 -0500 (Fri, 31 Jan 2025) EllapsedTime: 74.7 seconds RetCode: 0 Status: OK PackageFile: BumpyMatrix_1.14.0.zip PackageFileSize: 1.032 MiB