Package: BumpyMatrix Version: 1.14.0 Command: chmod a+r BumpyMatrix -R && F:\biocbuild\bbs-3.20-bioc\R\bin\R.exe CMD build --keep-empty-dirs --no-resave-data BumpyMatrix StartedAt: 2025-01-30 17:41:51 -0500 (Thu, 30 Jan 2025) EndedAt: 2025-01-30 17:42:41 -0500 (Thu, 30 Jan 2025) EllapsedTime: 49.9 seconds RetCode: 0 Status: OK PackageFile: BumpyMatrix_1.14.0.tar.gz PackageFileSize: 318 KiB