Package: BumpyMatrix Version: 1.14.0 Command: /home/biocbuild/R/R/bin/R CMD build --keep-empty-dirs --no-resave-data BumpyMatrix StartedAt: 2025-02-03 22:19:13 -0000 (Mon, 03 Feb 2025) EndedAt: 2025-02-03 22:19:42 -0000 (Mon, 03 Feb 2025) EllapsedTime: 29.0 seconds RetCode: 0 Status: OK PackageFile: BumpyMatrix_1.14.0.tar.gz PackageFileSize: 384.9 KiB