Package: BumpyMatrix Version: 1.14.0 Command: /home/biocbuild/R/R/bin/R CMD INSTALL BumpyMatrix StartedAt: 2025-02-03 20:26:19 -0000 (Mon, 03 Feb 2025) EndedAt: 2025-02-03 20:26:51 -0000 (Mon, 03 Feb 2025) EllapsedTime: 31.7 seconds RetCode: 0 Status: OK