Package: CAEN Version: 1.14.0 Command: /Library/Frameworks/R.framework/Resources/bin/R CMD build --keep-empty-dirs --no-resave-data CAEN StartedAt: 2025-02-10 20:04:53 -0500 (Mon, 10 Feb 2025) EndedAt: 2025-02-10 20:08:03 -0500 (Mon, 10 Feb 2025) EllapsedTime: 189.6 seconds RetCode: 0 Status: OK PackageFile: CAEN_1.14.0.tar.gz PackageFileSize: 988.5 KiB