Package: CAEN Version: 1.14.0 Command: /Library/Frameworks/R.framework/Resources/bin/R CMD build --keep-empty-dirs --no-resave-data CAEN StartedAt: 2025-02-10 17:29:14 -0500 (Mon, 10 Feb 2025) EndedAt: 2025-02-10 17:33:28 -0500 (Mon, 10 Feb 2025) EllapsedTime: 254.1 seconds RetCode: 0 Status: OK PackageFile: CAEN_1.14.0.tar.gz PackageFileSize: 988.5 KiB