Package: CAEN Version: 1.14.0 Command: /Library/Frameworks/R.framework/Resources/bin/R CMD check --install=check:CAEN.install-out.txt --library=/Library/Frameworks/R.framework/Resources/library --no-vignettes --timings CAEN_1.14.0.tar.gz StartedAt: 2025-02-11 00:38:58 -0500 (Tue, 11 Feb 2025) EndedAt: 2025-02-11 00:43:54 -0500 (Tue, 11 Feb 2025) EllapsedTime: 296.5 seconds RetCode: 0 Status: OK CheckDir: CAEN.Rcheck Warnings: 0