Package: CAEN Version: 1.14.0 Command: /home/biocbuild/bbs-3.20-bioc/R/bin/R CMD INSTALL CAEN StartedAt: 2025-02-10 15:19:23 -0500 (Mon, 10 Feb 2025) EndedAt: 2025-02-10 15:19:42 -0500 (Mon, 10 Feb 2025) EllapsedTime: 19.0 seconds RetCode: 0 Status: OK