Package: CAEN Version: 1.14.0 Command: chmod a+r CAEN -R && F:\biocbuild\bbs-3.20-bioc\R\bin\R.exe CMD build --keep-empty-dirs --no-resave-data CAEN StartedAt: 2025-02-03 17:54:45 -0500 (Mon, 03 Feb 2025) EndedAt: 2025-02-03 17:57:37 -0500 (Mon, 03 Feb 2025) EllapsedTime: 172.0 seconds RetCode: 0 Status: OK PackageFile: CAEN_1.14.0.tar.gz PackageFileSize: 988.5 KiB