Package: CAFE Version: 1.42.0 Command: /Library/Frameworks/R.framework/Resources/bin/R CMD build --keep-empty-dirs --no-resave-data CAFE StartedAt: 2025-02-10 20:06:08 -0500 (Mon, 10 Feb 2025) EndedAt: 2025-02-10 20:07:56 -0500 (Mon, 10 Feb 2025) EllapsedTime: 108.1 seconds RetCode: 0 Status: OK PackageFile: CAFE_1.42.0.tar.gz PackageFileSize: 4.629 MiB