Package: CAFE Version: 1.42.0 Command: /Library/Frameworks/R.framework/Resources/bin/R CMD INSTALL CAFE StartedAt: 2025-02-03 16:08:28 -0500 (Mon, 03 Feb 2025) EndedAt: 2025-02-03 16:10:22 -0500 (Mon, 03 Feb 2025) EllapsedTime: 114.3 seconds RetCode: 0 Status: OK