Package: CAFE Version: 1.42.0 Command: /home/biocbuild/bbs-3.20-bioc/R/bin/R CMD INSTALL CAFE StartedAt: 2025-02-03 15:44:10 -0500 (Mon, 03 Feb 2025) EndedAt: 2025-02-03 15:45:18 -0500 (Mon, 03 Feb 2025) EllapsedTime: 68.1 seconds RetCode: 0 Status: OK