Package: CAFE Version: 1.42.0 Command: rm -rf CAFE.buildbin-libdir && mkdir CAFE.buildbin-libdir && F:\biocbuild\bbs-3.20-bioc\R\bin\R.exe CMD INSTALL --build --library=CAFE.buildbin-libdir CAFE_1.42.0.tar.gz StartedAt: 2025-02-11 08:04:31 -0500 (Tue, 11 Feb 2025) EndedAt: 2025-02-11 08:05:33 -0500 (Tue, 11 Feb 2025) EllapsedTime: 62.4 seconds RetCode: 0 Status: OK PackageFile: CAFE_1.42.0.zip PackageFileSize: 4.692 MiB