Package: CAFE Version: 1.42.0 Command: chmod a+r CAFE -R && F:\biocbuild\bbs-3.20-bioc\R\bin\R.exe CMD build --keep-empty-dirs --no-resave-data CAFE StartedAt: 2025-02-03 17:54:52 -0500 (Mon, 03 Feb 2025) EndedAt: 2025-02-03 17:56:45 -0500 (Mon, 03 Feb 2025) EllapsedTime: 112.8 seconds RetCode: 0 Status: OK PackageFile: CAFE_1.42.0.tar.gz PackageFileSize: 4.632 MiB