Package: CAFE Version: 1.42.0 Command: /home/biocbuild/R/R/bin/R CMD check --install=check:CAFE.install-out.txt --library=/home/biocbuild/R/R/site-library --no-vignettes --timings CAFE_1.42.0.tar.gz StartedAt: 2025-02-11 04:28:07 -0000 (Tue, 11 Feb 2025) EndedAt: 2025-02-11 04:35:10 -0000 (Tue, 11 Feb 2025) EllapsedTime: 422.3 seconds RetCode: 0 Status: WARNINGS CheckDir: CAFE.Rcheck Warnings: 2