Package: CAFE Version: 1.42.0 Command: /home/biocbuild/R/R/bin/R CMD INSTALL CAFE StartedAt: 2025-02-03 20:58:49 -0000 (Mon, 03 Feb 2025) EndedAt: 2025-02-03 20:59:55 -0000 (Mon, 03 Feb 2025) EllapsedTime: 66.0 seconds RetCode: 0 Status: OK