Package: CAGEfightR Version: 1.26.0 Command: /Library/Frameworks/R.framework/Resources/bin/R CMD INSTALL CAGEfightR StartedAt: 2025-02-03 16:10:22 -0500 (Mon, 03 Feb 2025) EndedAt: 2025-02-03 16:12:06 -0500 (Mon, 03 Feb 2025) EllapsedTime: 104.5 seconds RetCode: 0 Status: OK